BEGIN:VCALENDAR
VERSION:2.0
PRODID:-//Heroes Church - ECPv6.15.20//NONSGML v1.0//EN
CALSCALE:GREGORIAN
METHOD:PUBLISH
X-WR-CALNAME:Heroes Church
X-ORIGINAL-URL:https://heroeschurch.org
X-WR-CALDESC:Events for Heroes Church
REFRESH-INTERVAL;VALUE=DURATION:PT1H
X-Robots-Tag:noindex
X-PUBLISHED-TTL:PT1H
BEGIN:VTIMEZONE
TZID:UTC
BEGIN:STANDARD
TZOFFSETFROM:+0000
TZOFFSETTO:+0000
TZNAME:UTC
DTSTART:20240101T000000
END:STANDARD
END:VTIMEZONE
BEGIN:VEVENT
DTSTART;TZID=UTC:20250503T093000
DTEND;TZID=UTC:20250503T180000
DTSTAMP:20260422T084143
CREATED:20250310T021906Z
LAST-MODIFIED:20250311T084116Z
UID:1151-1746264600-1746295200@heroeschurch.org
SUMMARY:Brilla '25 - Legado  |  Shine '25 - Legacy
DESCRIPTION:Shine ’25 Women’s Conference – Legacy\nJoin us for an inspiring day at the Shine ’25 Women’s Conference! \n📅 Date:Saturday\, May 3 \n⏰ Time:9:30 AM – 6:00 PM \n📍 Location:9260 Mango Ave\, Fontana\, CA 92335 \n💵 Entry Fee:$30 \nAbout the Event\nThis year\, our event celebrates “Legacy” with a day filled with motivational talks\, interactive workshops\, and networking opportunities designed to empower and honor the lasting impact of women in our community and beyond. \n🔗 Registration:Secure your spot by registering today! Click the link below to pay your entry fee via Zelle. Please include ‘Shine Conference’ in the memo section when making your payment. \n👉 Pay with Zelle \n📞 Contact Us:For more information\, please contact us at heroeschurch@mail.com. \n🌷 We look forward to welcoming you to Shine ’25 and celebrating the legacy of women together! \n\nConferencia de Mujeres Brilla ’25 – Legado\n¡Únete a nosotros para un día inspirador en la Conferencia de Mujeres Brilla ’25! \n📅 Fecha:Sábado\, 3 de mayo \n⏰ Hora:9:30 AM – 6:00 PM \n📍 Ubicación:9260 Mango Ave\, Fontana\, CA 92335 \n💵 Cuota de inscripción:$30 \nSobre el evento\nEste año\, nuestro evento celebra el “Legado” con un día lleno de charlas motivacionales\, talleres interactivos y oportunidades de networking diseñadas para fortalecer y honrar el impacto duradero de las mujeres en nuestra comunidad y más allá. \n🔗 Registro:Asegura tu lugar registrándote hoy. Haz clic en el enlace de abajo para pagar tu cuota de inscripción a través de Zelle. Por favor\, incluye ‘Conferencia Brilla’ en la sección de memo al realizar tu pago. \n👉 Pagar con Zelle \n📞 Contáctanos:Para más información\, por favor contáctanos en heroeschurch@mail.com. \n🌷 ¡Esperamos darte la bienvenida en Brilla ’25 y celebrar juntos el legado de las mujeres!
URL:https://heroeschurch.org/events/brilla-25-legado/
LOCATION:Heroes Church – Fontana\, 9260 Mango Ave\, Fontana\, CA 92335\, Fontana\, 92335\, United States
CATEGORIES:Brilla
ATTACH;FMTTYPE=image/jpeg:https://heroeschurch.org/wp-content/uploads/2025/03/brilla.jpg
END:VEVENT
END:VCALENDAR