BEGIN:VCALENDAR
VERSION:2.0
PRODID:-//Heroes Church - ECPv6.15.20//NONSGML v1.0//EN
CALSCALE:GREGORIAN
METHOD:PUBLISH
X-WR-CALNAME:Heroes Church
X-ORIGINAL-URL:https://heroeschurch.org
X-WR-CALDESC:Events for Heroes Church
REFRESH-INTERVAL;VALUE=DURATION:PT1H
X-Robots-Tag:noindex
X-PUBLISHED-TTL:PT1H
BEGIN:VTIMEZONE
TZID:UTC
BEGIN:STANDARD
TZOFFSETFROM:+0000
TZOFFSETTO:+0000
TZNAME:UTC
DTSTART:20240101T000000
END:STANDARD
END:VTIMEZONE
BEGIN:VEVENT
DTSTART;TZID=UTC:20250518T090000
DTEND;TZID=UTC:20250518T130000
DTSTAMP:20260422T084144
CREATED:20250413T211255Z
LAST-MODIFIED:20250413T211506Z
UID:1256-1747558800-1747573200@heroeschurch.org
SUMMARY:Baby Dedications
DESCRIPTION:Baby Dedications | Dedicaciones de Bebés\nMay 18 @ [Time TBA] \n\nBaby Dedications at Heroes Church\nJoin us for a beautiful and meaningful ceremony as we dedicate our babies and little ones to the Lord in faith and community. \n📅 Date:Saturday\, May 18 \n⏰ Time:To Be Announced \n📍 Location:9260 Mango Ave\, Fontana\, CA 92335 \n💵 Entry Fee:Free Event \n\nAbout the Event\nOur Baby Dedications are a joyful celebration of life\, faith\, and family. Parents will have the opportunity to publicly commit to raising their children with purpose and spiritual guidance\, surrounded by the love and support of the church. \n👨‍👩‍👧‍👦 Open to families with babies and toddlers📸 Photos welcome to capture this milestone🎉 Light refreshments to follow \n🔗 How to Sign Up:Details on registration will be shared soon during service and online. \n📞 Contact Us:For more information\, please contact us at heroeschurch@mail.com. \n🌼 We can’t wait to celebrate this special moment with you and your family! \n\nDedicaciones de Bebés en Heroes Church\nAcompáñanos en una ceremonia hermosa y significativa donde dedicamos a nuestros bebés y pequeños al Señor en fe y comunidad. \n📅 Fecha:Sábado\, 18 de mayo \n⏰ Hora:Por confirmar \n📍 Ubicación:9260 Mango Ave\, Fontana\, CA 92335 \n💵 Cuota de inscripción:Evento gratuito \n\nSobre el Evento\nNuestras Dedicaciones de Bebés son una alegre celebración de la vida\, la fe y la familia. Los padres tendrán la oportunidad de comprometerse públicamente a criar a sus hijos con propósito y guía espiritual\, rodeados del amor y apoyo de la iglesia. \n👨‍👩‍👧‍👦 Abierto para familias con bebés y niños pequeños📸 Se permiten fotos para capturar este momento especial🎉 Habrá refrigerios ligeros después de la ceremonia \n🔗 ¿Cómo participar?Los detalles sobre cómo registrarse se compartirán próximamente en el servicio y en línea. \n📞 Contáctanos:Para más información\, escríbenos a heroeschurch@mail.com. \n🌼 ¡Estamos emocionados de celebrar este momento tan especial contigo y tu familia!
URL:https://heroeschurch.org/events/baby-dedications/
LOCATION:Heroes Church – Fontana\, 9260 Mango Ave\, Fontana\, CA 92335\, Fontana\, 92335\, United States
CATEGORIES:Baby Dedications
END:VEVENT
END:VCALENDAR