BEGIN:VCALENDAR
VERSION:2.0
PRODID:-//Heroes Church - ECPv6.15.20//NONSGML v1.0//EN
CALSCALE:GREGORIAN
METHOD:PUBLISH
X-WR-CALNAME:Heroes Church
X-ORIGINAL-URL:https://heroeschurch.org
X-WR-CALDESC:Events for Heroes Church
REFRESH-INTERVAL;VALUE=DURATION:PT1H
X-Robots-Tag:noindex
X-PUBLISHED-TTL:PT1H
BEGIN:VTIMEZONE
TZID:UTC
BEGIN:STANDARD
TZOFFSETFROM:+0000
TZOFFSETTO:+0000
TZNAME:UTC
DTSTART:20240101T000000
END:STANDARD
END:VTIMEZONE
BEGIN:VEVENT
DTSTART;TZID=UTC:20250527T090000
DTEND;TZID=UTC:20250527T133000
DTSTAMP:20260422T071159
CREATED:20250527T110505Z
LAST-MODIFIED:20250527T110505Z
UID:2558-1748336400-1748352600@heroeschurch.org
SUMMARY:Healing & Miracle Service
DESCRIPTION:📅 Sunday\, June 1st🕘 9:00 AM & 11:30 AM📍 Heroes Church — 9260 Mango Ave\, Fontana\, CA 92335 \nJoin us for a powerful Healing & Miracle Service with Pastor Jean Paul Fernandez.We believe in a God who still heals\, restores\, and does the impossible.Whether you’re in need of physical healing\, emotional breakthrough\, or spiritual renewal—this service is for YOU. \n🙌 Come expecting.🔥 Come ready.🙏 Come believing. \nEveryone is welcome. Invite a friend or family member who needs a miracle! \n\n🌱 Want to Sow Into What God is Doing?\nIf you feel led to give\, you can sow securely through: \n\n\nPayPal → Click here to give \n\n\nZelle → Send with Zelle \n\n\nYour generosity helps us continue to reach lives with healing\, hope\, and the power of the Gospel. Thank you for sowing into good ground! \n➡️ www.heroeschurch.org \n\nServicio de Sanidad y Milagros\n📅 Domingo\, 1 de Junio🕘 9:00 AM y 11:30 AM📍 Iglesia Heroes — 9260 Mango Ave\, Fontana\, CA 92335 \nAcompáñanos a un poderoso Servicio de Sanidad y Milagros con el Pastor Jean Paul Fernandez.Creemos en un Dios que todavía sana\, restaura y hace lo imposible.Si necesitas sanidad física\, libertad emocional o renovación espiritual—este servicio es para TI. \n🙌 Ven con expectativa.🔥 Ven preparado.🙏 Ven creyendo. \nTodos son bienvenidos. ¡Invita a un amigo o familiar que necesite un milagro! \n\n🌱 ¿Quieres Sembrar en Lo Que Dios Está Haciendo?\nSi sientes en tu corazón dar una ofrenda o semilla\, puedes hacerlo de forma segura a través de: \n\n\nPayPal → Haz clic aquí para dar \n\n\nZelle → Enviar con Zelle \n\n\nTu generosidad nos ayuda a seguir alcanzando vidas con sanidad\, esperanza y el poder del Evangelio. ¡Gracias por sembrar en buena tierra! \n➡️ www.heroeschurch.org
URL:https://heroeschurch.org/events/healing-miracle-service/
LOCATION:Heroes Church – Fontana\, 9260 Mango Ave\, Fontana\, CA 92335\, Fontana\, 92335\, United States
CATEGORIES:Healing and Miracle Service
ATTACH;FMTTYPE=image/jpeg:https://heroeschurch.org/wp-content/uploads/2025/05/healing.jpg
END:VEVENT
END:VCALENDAR