BEGIN:VCALENDAR
VERSION:2.0
PRODID:-//Heroes Church - ECPv6.15.20//NONSGML v1.0//EN
CALSCALE:GREGORIAN
METHOD:PUBLISH
X-ORIGINAL-URL:https://heroeschurch.org
X-WR-CALDESC:Events for Heroes Church
REFRESH-INTERVAL;VALUE=DURATION:PT1H
X-Robots-Tag:noindex
X-PUBLISHED-TTL:PT1H
BEGIN:VTIMEZONE
TZID:UTC
BEGIN:STANDARD
TZOFFSETFROM:+0000
TZOFFSETTO:+0000
TZNAME:UTC
DTSTART:20240101T000000
END:STANDARD
END:VTIMEZONE
BEGIN:VEVENT
DTSTART;TZID=UTC:20250531T090000
DTEND;TZID=UTC:20250531T130000
DTSTAMP:20260422T071406
CREATED:20250413T110903Z
LAST-MODIFIED:20250530T180835Z
UID:1248-1748682000-1748696400@heroeschurch.org
SUMMARY:Picnic Day! | Día de Picnic
DESCRIPTION:📅 Date / Fecha:Saturday\, May 31 / Sábado\, 31 de mayo \n⏰ Time / Hora:11:00 am – 5:00 pm   \n📍 Location / Ubicación:Village Park 15601 Village Dr. E\, Fontana\, CA 92337 \n💵 Entry Fee / Cuota de inscripción:Free Event / Evento Gratuito \n\nAbout the Event / Sobre el Evento\nJoin us for a beautiful day outdoors with Heroes Church! This picnic is the perfect chance to connect with others\, enjoy fun activities\, and relax with family and friends in a vibrant\, nature-filled setting. \nAcompáñanos en un día al aire libre con Heroes Church. Este picnic es la oportunidad perfecta para conectar con otros\, disfrutar actividades divertidas y relajarte con tu familia y amigos en un ambiente lleno de naturaleza. \nExpect a day full of / Espera un día lleno de:🌞 Sunshine & fellowship / Sol y compañerismo🎲 Games for all ages / Juegos para todas las edades🍓 Snacks\, food\, and refreshing drinks / Bocadillos\, comida y bebidas refrescantes📸 Chill vibes & laughter / Buenas vibras y muchas risas \nJust bring your favorite picnic blanket—and we’ll handle the rest!¡Solo trae tu manta de picnic favorita—nosotros nos encargamos del resto! \n\n📲 Stay Updated / Mantente Informado\nScan the QR code on the flyer or follow us on social media for the latest updates on the time & location.Escanea el código QR en el volante o síguenos en redes sociales para recibir actualizaciones sobre la hora y ubicación. \n\n💬 Contact Us / Contáctanos\nFor more info\, contact us at:📩 heroeschurch@mail.comPara más información\, escríbenos a:📩 heroeschurch@mail.com
URL:https://heroeschurch.org/events/picnic-day/
LOCATION:Heroes Church – Fontana\, 9260 Mango Ave\, Fontana\, CA 92335\, Fontana\, 92335\, United States
CATEGORIES:Church Picnic
ATTACH;FMTTYPE=image/jpeg:https://heroeschurch.org/wp-content/uploads/2025/04/english.jpeg
END:VEVENT
END:VCALENDAR