BEGIN:VCALENDAR
VERSION:2.0
PRODID:-//Heroes Church - ECPv6.15.20//NONSGML v1.0//EN
CALSCALE:GREGORIAN
METHOD:PUBLISH
X-WR-CALNAME:Heroes Church
X-ORIGINAL-URL:https://heroeschurch.org
X-WR-CALDESC:Events for Heroes Church
REFRESH-INTERVAL;VALUE=DURATION:PT1H
X-Robots-Tag:noindex
X-PUBLISHED-TTL:PT1H
BEGIN:VTIMEZONE
TZID:UTC
BEGIN:STANDARD
TZOFFSETFROM:+0000
TZOFFSETTO:+0000
TZNAME:UTC
DTSTART:20240101T000000
END:STANDARD
END:VTIMEZONE
BEGIN:VEVENT
DTSTART;TZID=UTC:20250728T190000
DTEND;TZID=UTC:20250801T170000
DTSTAMP:20260422T041941
CREATED:20250727T100055Z
LAST-MODIFIED:20250727T100815Z
UID:2629-1753729200-1754067600@heroeschurch.org
SUMMARY:Revival Week/Semana de Avivamiento
DESCRIPTION:🔥 Revival Week at Heroes Church\n📅 Dates:Monday\, July 28 – Friday\, August 1🕖 7:00 PM Nightly \nSaturday\, August 2🕕 6:00 PM \n📍 Location:9260 Mango Ave\, Fontana\, CA 92335 \n🗣 Bilingual Services Available \nJoin us for a powerful week filled with the presence of God. Expect breakthrough\, healing\, and life-changing encounters as these mighty men of God minister each night: \n\n\nEvangelist Joshua Kelly \n\n\nPastor Alex Goodman \n\n\nPastor Jean Paul Fernandez \n\n\nApostle Nathaniel Leon \n\n\nEvangelist Manuel Medina \n\n\nEvangelist Daniel Camacho \n\n\n🔗 For more info:www.heroschurch.org \n\n🔥 Semana de Avivamiento en Heroes Church\n📅 Fechas:Lunes 28 de julio – Viernes 1 de agosto🕖 7:00 PM cada noche \nSábado 2 de agosto🕕 6:00 PM \n📍 Ubicación:9260 Mango Ave\, Fontana\, CA 92335 \n🗣 Servicios Bilingües Disponibles \nAcompáñanos a una semana poderosa llena de la presencia de Dios. Ven esperando liberación\, sanidad y encuentros transformadores con Dios mientras estos siervos poderosos comparten cada noche: \n\n\nEvangelista Joshua Kelly \n\n\nPastor Alex Goodman \n\n\nPastor Jean Paul Fernandez \n\n\nApóstol Nathaniel Leon \n\n\nEvangelista Manuel Medina \n\n\nEvangelista Daniel Camacho \n\n\n🔗 Para más información:www.heroschurch.org
URL:https://heroeschurch.org/events/revival-week-semana-de-avivamiento/
LOCATION:Heroes Church – Fontana\, 9260 Mango Ave\, Fontana\, CA 92335\, Fontana\, 92335\, United States
CATEGORIES:Revival Week
ATTACH;FMTTYPE=image/jpeg:https://heroeschurch.org/wp-content/uploads/2025/07/revival1-scaled.jpg
END:VEVENT
END:VCALENDAR