BEGIN:VCALENDAR
VERSION:2.0
PRODID:-//Heroes Church - ECPv6.15.20//NONSGML v1.0//EN
CALSCALE:GREGORIAN
METHOD:PUBLISH
X-ORIGINAL-URL:https://heroeschurch.org
X-WR-CALDESC:Events for Heroes Church
REFRESH-INTERVAL;VALUE=DURATION:PT1H
X-Robots-Tag:noindex
X-PUBLISHED-TTL:PT1H
BEGIN:VTIMEZONE
TZID:UTC
BEGIN:STANDARD
TZOFFSETFROM:+0000
TZOFFSETTO:+0000
TZNAME:UTC
DTSTART:20250101T000000
END:STANDARD
END:VTIMEZONE
BEGIN:VEVENT
DTSTART;TZID=UTC:20260215T090000
DTEND;TZID=UTC:20260215T090000
DTSTAMP:20260421T100529
CREATED:20260213T070217Z
LAST-MODIFIED:20260213T070522Z
UID:2719-1771146000-1771146000@heroeschurch.org
SUMMARY:Baby dedication / Dedicación de bebés
DESCRIPTION:Baby dedication / Dedicación de bebés\nHeroes Church \n📅 Date / Fecha:\nSunday\, February 15th\, 2026 / Domingo\, 15 de febrero\, 2026 \n⏰ Service Times / Horarios:\nSpanish / Español: 9:00 AM – 11:00 AM\nEnglish / Inglés: 11:30 AM – 1:30 PM \n📍 Location / Lugar:\nHeroes Church — 9260 Mango Ave\, Fontana\, CA 92335 \n💒 Description / Descripción:\nA Baby Dedication is a moment of blessing and commitment — where families publicly dedicate their children to the Lord\, trusting Him with their future and purpose. At Heroes Church\, we celebrate this sacred act as parents declare their desire to raise their children in God’s ways and love.\nUna Dedicación de Bebés es un momento de bendición y compromiso — donde las familias dedican públicamente a sus hijos al Señor\, confiando en Él su futuro y propósito. En Heroes Church\, celebramos este acto sagrado\, mientras los padres declaran su deseo de criar a sus hijos en los caminos y el amor de Dios. \n🌐 Learn More / Más Información:\nwww.heroschurch.org
URL:https://heroeschurch.org/events/baby-dedication-dedicacion-de-bebes/
LOCATION:Heroes Church – Fontana\, 9260 Mango Ave\, Fontana\, CA 92335\, Fontana\, 92335\, United States
CATEGORIES:Baby Dedications
ATTACH;FMTTYPE=image/jpeg:https://heroeschurch.org/wp-content/uploads/2026/02/ioipo-01.jpg
END:VEVENT
END:VCALENDAR