BEGIN:VCALENDAR
VERSION:2.0
PRODID:-//Heroes Church - ECPv6.15.20//NONSGML v1.0//EN
CALSCALE:GREGORIAN
METHOD:PUBLISH
X-ORIGINAL-URL:https://heroeschurch.org
X-WR-CALDESC:Events for Heroes Church
REFRESH-INTERVAL;VALUE=DURATION:PT1H
X-Robots-Tag:noindex
X-PUBLISHED-TTL:PT1H
BEGIN:VTIMEZONE
TZID:UTC
BEGIN:STANDARD
TZOFFSETFROM:+0000
TZOFFSETTO:+0000
TZNAME:UTC
DTSTART:20240101T000000
END:STANDARD
END:VTIMEZONE
BEGIN:VEVENT
DTSTART;TZID=UTC:20250420T090000
DTEND;TZID=UTC:20250420T130000
DTSTAMP:20260423T155753
CREATED:20250417T010019Z
LAST-MODIFIED:20250417T011546Z
UID:1308-1745139600-1745154000@heroeschurch.org
SUMMARY:Easter Sunday Celebration |  Celebración del Domingo de Resurrección
DESCRIPTION:Date: Sunday\, April 20thTimes: \n\n\n9:00 AM – English \n\n\n11:30 AM – SpanishLocation: 9260 Mango Ave\, Fontana\, CACelebrate the resurrection of Jesus with worship\, a message of hope\, and community! \n\n\n\nFecha: Domingo 20 de AbrilHorarios: \n\n\n9:00 AM – Inglés \n\n\n11:30 AM – EspañolDirección: 9260 Mango Ave\, Fontana\, CACelebra la resurrección de Jesús con adoración\, un mensaje de esperanza y comunidad.
URL:https://heroeschurch.org/events/easter-sunday-celebration-celebracion-del-domingo-de-resurreccion/
LOCATION:Heroes Church – Fontana\, 9260 Mango Ave\, Fontana\, CA 92335\, Fontana\, 92335\, United States
CATEGORIES:Holy Week
END:VEVENT
BEGIN:VEVENT
DTSTART;TZID=UTC:20250418T190000
DTEND;TZID=UTC:20250418T210000
DTSTAMP:20260423T155753
CREATED:20250417T004831Z
LAST-MODIFIED:20250417T005723Z
UID:1299-1745002800-1745010000@heroeschurch.org
SUMMARY:Good Friday Service | Servicio de Viernes Santo
DESCRIPTION:Date: Friday\, April 18thTime: 7:00 PMLocation: 795 E 6th St\, Beaumont\, CA Join us for a powerful evening as we reflect on the sacrifice Jesus made on the cross. \nFecha: Viernes 18 de AbrilHora: 7:00 PMDirección: 795 E 6th St\, Beaumont\, CAAcompáñanos en una noche especial mientras reflexionamos sobre el sacrificio de Jesús en la cruz.
URL:https://heroeschurch.org/events/good-friday-service-servicio-de-viernes-santo/
LOCATION:Heroes Church – Beaumont\, 795 E 6th St\, Beaumont\, CA 92223\, Beaumont\, 92223\, United States
CATEGORIES:Holy Week
ATTACH;FMTTYPE=image/jpeg:https://heroeschurch.org/wp-content/uploads/2025/04/GF-ENG-scaled.jpg
END:VEVENT
END:VCALENDAR